DSET ^s1297_%m2.bin
UNDEF -0.1E+11
OPTIONS TEMPLATE
TITLE Data PredictAN
XDEF 23 LINEAR 287.0 4.0
YDEF 13 LINEAR -18.0 4.0
ZDEF 1 LINEAR 1 1
TDEF 12 LINEAR JAN1998 1mo
VARS 1
S 1 99 S
ENDVARS
